BEGIN:VCALENDAR
VERSION:2.0
PRODID:-//ChamberMaster//Event Calendar 2.0//EN
METHOD:PUBLISH
X-PUBLISHED-TTL:P3D
REFRESH-INTERVAL:P3D
CALSCALE:GREGORIAN
BEGIN:VEVENT
DTSTART:20190227T223000Z
DTEND:20190228T003000Z
X-MICROSOFT-CDO-ALLDAYEVENT:FALSE
SUMMARY:Business After Hours @ Tremezzo
DESCRIPTION:Come mix and mingle with professionals from the Wilmington/Tewksbury Chamber at our Business After Hours at Tremezzo Ristorante. This relaxed networking evening is a great way to connect with new business owners\, seasoned veterans and local entrepreneurs from our business community.\n\nAlso\, come get the scoop on Wilmington's new bakery opening soon in the same plaza - Josie's Bakery\, owned by Tremezzo Owner\, Rick Lowe!\n\nJoin us for networking and to show your support for this new Wilmington business.
X-ALT-DESC;FMTTYPE=text/html:<div style="background-color: transparent\; color: rgb(56\, 123\, 55)\; cursor: text\; font-family: Arial\; font-size: 12px\; font-variant-numeric: normal\; font-variant-east-asian: normal\; outline: transparent none 0px\; white-space: pre-wrap\;">\n<div style="background-color: transparent\; color: rgb(56\, 123\, 55)\; cursor: text\; font-family: Arial\; font-size: 12px\; font-variant-numeric: normal\; font-variant-east-asian: normal\; outline: transparent none 0px\; white-space: pre-wrap\;"><span style="font-family:arial\;"><span style="font-size:16px\;"><span style="color: rgb(41\, 75\, 147)\; background-color: transparent\;">Come mix and mingle with professionals from the Wilmington/Tewksbury Chamber at our Business After Hours at Tremezzo Ristorante.&nbsp\;This relaxed networking evening is a great way to connect with new business owners\, seasoned veterans and local entrepreneurs from our business community.</span></span></span></div>\n\n<div style="background-color: transparent\; color: rgb(56\, 123\, 55)\; cursor: text\; font-family: Arial\; font-size: 12px\; font-variant-numeric: normal\; font-variant-east-asian: normal\; outline: transparent none 0px\; white-space: pre-wrap\;"><span style="font-family:arial\;"><span style="font-size:16px\;"><span style="color: rgb(41\, 75\, 147)\; background-color: transparent\;">Also\, come get the scoop on Wilmington&#39\;s new bakery opening soon in the same plaza - Josie&#39\;s Bakery\, owned by Tremezzo Owner\, Rick Lowe!</span></span></span></div>\n\n<div style="background-color: transparent\; color: rgb(56\, 123\, 55)\; cursor: text\; font-family: Arial\; font-size: 12px\; font-variant-numeric: normal\; font-variant-east-asian: normal\; outline: transparent none 0px\; white-space: pre-wrap\;"><span style="font-family:arial\;"><span style="font-size:16px\;"><span style="color: rgb(41\, 75\, 147)\; background-color: transparent\;">Join us for networking and to show your support for this new Wilmington business.</span></span></span></div>\n</div>\n\n<div style="background-color: transparent\; color: rgb(56\, 123\, 55)\; font-family: Arial\; font-size: 12px\; font-variant-numeric: normal\; font-variant-east-asian: normal\; text-align: center\; white-space: pre-wrap\;"><br />\n&nbsp\;</div>\n
LOCATION:Tremezzo Restorante 2 Lowell Street Wilmington\, MA 01887
UID:e.2938.5268
SEQUENCE:3
DTSTAMP:20260425T102518Z
URL:https://business.wilmingtontewksburychamber.org/events/details/business-after-hours-tremezzo-5268
END:VEVENT

END:VCALENDAR
