BEGIN:VCALENDAR
VERSION:2.0
PRODID:-//ChamberMaster//Event Calendar 2.0//EN
METHOD:PUBLISH
X-PUBLISHED-TTL:P3D
REFRESH-INTERVAL:P3D
CALSCALE:GREGORIAN
BEGIN:VEVENT
DTSTART:20181024T213000Z
DTEND:20181024T233000Z
X-MICROSOFT-CDO-ALLDAYEVENT:FALSE
SUMMARY:Business After Hours - Escapology
DESCRIPTION:To kick-off their 1 Year Anniversary Celebration\, Escapology is hosting a super fun Chamber networking event complete with Escape Room adventures for those brave enough to try! \n\n \n\n~ Teamwork ~ Communication\n\n~ Find Clues ~ Solve Problems\n\nESCAPE!!!\n\n \n\nCome mix & mingle with professionals from the Wilmington/Tewksbury Chamber and the Billerica Alliance. \n\n \n\n~ Complimentary Appetizers ~ \n\nCash Bar
X-ALT-DESC;FMTTYPE=text/html:<div style="margin: 0px\; padding: 0px\; border: none\; outline: 0px\; font-size: 12px\; vertical-align: baseline\; background-image: none\; background-position: initial\; background-size: initial\; background-repeat: initial\; background-attachment: initial\; background-origin: initial\; background-clip: initial\; bottom: auto\; box-sizing: content-box\; clear: none\; color: rgb(56\, 123\, 55)\; content: normal\; direction: inherit\; empty-cells: show\; float: none\; font-variant-numeric: inherit\; font-variant-east-asian: inherit\; font-stretch: inherit\; font-family: Arial\; left: auto\; line-height: inherit\; max-height: none\; max-width: none\; min-height: initial\; min-width: initial\; opacity: 1\; outline-offset: 0px\; overflow: visible\; position: static\; resize: none\; right: auto\; table-layout: auto\; text-overflow: clip\; top: auto\; visibility: inherit\; white-space: pre-wrap\; word-break: inherit\; word-wrap: inherit\; z-index: auto\; border-collapse: separate\; border-radius: 0px\; height: auto\; width: auto\; box-shadow: none\;">\n<div style="margin: 0px\; padding: 0px\; border: none\; outline: 0px\; font-size: 12px\; vertical-align: baseline\; background-image: none\; background-position: initial\; background-size: initial\; background-repeat: initial\; background-attachment: initial\; background-origin: initial\; background-clip: initial\; bottom: auto\; box-sizing: content-box\; clear: none\; color: rgb(56\, 123\, 55)\; content: normal\; direction: inherit\; empty-cells: show\; float: none\; font-variant-numeric: inherit\; font-variant-east-asian: inherit\; font-stretch: inherit\; font-family: Arial\; left: auto\; line-height: inherit\; max-height: none\; max-width: none\; min-height: initial\; min-width: initial\; opacity: 1\; outline-offset: 0px\; overflow: visible\; position: static\; resize: none\; right: auto\; table-layout: auto\; text-overflow: clip\; top: auto\; visibility: inherit\; white-space: pre-wrap\; word-break: inherit\; word-wrap: inherit\; z-index: auto\; border-collapse: separate\; border-radius: 0px\; height: auto\; width: auto\; box-shadow: none\;">\n<div style="background-color: transparent\; color: rgb(56\, 123\, 55)\; cursor: text\; font-family: Arial\; font-size: 12px\; font-variant-numeric: normal\; font-variant-east-asian: normal\; outline: transparent none 0px\; white-space: pre-wrap\;"><span style="font-size:14px\;"><span style="font-family:arial\;"><span style="color: rgb(22\, 49\, 22)\;">To kick-off their 1 Year Anniversary Celebration\, Escapology is hosting a super fun Chamber networking event complete with Escape Room adventures for those brave enough to try! </span></span></span></div>\n\n<div style="background-color: transparent\; color: rgb(56\, 123\, 55)\; cursor: text\; font-family: Arial\; font-size: 12px\; font-variant-numeric: normal\; font-variant-east-asian: normal\; outline: transparent none 0px\; white-space: pre-wrap\;">&nbsp\;</div>\n\n<div style="background-color: transparent\; color: rgb(56\, 123\, 55)\; font-family: Arial\; font-size: 12px\; font-variant-numeric: normal\; font-variant-east-asian: normal\; text-align: center\; white-space: pre-wrap\;"><span style="font-size:14px\;"><span style="font-family:arial\;"><span style="color: rgb(22\, 49\, 22)\; font-style: italic\; font-weight: 700\;">~ Teamwork ~ Communication</span></span></span></div>\n\n<div style="background-color: transparent\; color: rgb(56\, 123\, 55)\; font-family: Arial\; font-size: 12px\; font-variant-numeric: normal\; font-variant-east-asian: normal\; text-align: center\; white-space: pre-wrap\;"><span style="font-size:14px\;"><span style="font-family:arial\;"><span style="color: rgb(22\, 49\, 22)\; font-style: italic\; font-weight: 700\;">~ Find Clues ~ Solve Problems</span></span></span></div>\n\n<div style="background-color: transparent\; color: rgb(56\, 123\, 55)\; font-family: Arial\; font-size: 12px\; font-variant-numeric: normal\; font-variant-east-asian: normal\; text-align: center\; white-space: pre-wrap\;"><span style="font-size:14px\;"><span style="font-family:arial\;"><span style="color: rgb(22\, 49\, 22)\; font-style: italic\; font-weight: 700\;">ESCAPE!!!</span></span></span></div>\n\n<div style="background-color: transparent\; color: rgb(56\, 123\, 55)\; cursor: text\; font-family: Arial\; font-size: 12px\; font-variant-numeric: normal\; font-variant-east-asian: normal\; outline: transparent none 0px\; white-space: pre-wrap\;">&nbsp\;</div>\n\n<div style="background-color: transparent\; color: rgb(56\, 123\, 55)\; cursor: text\; font-family: Arial\; font-size: 12px\; font-variant-numeric: normal\; font-variant-east-asian: normal\; outline: transparent none 0px\; white-space: pre-wrap\;"><span style="font-size:14px\;"><span style="font-family:arial\;"><span style="color: rgb(22\, 49\, 22)\;">Come mix &amp\; mingle with professionals from the Wilmington/Tewksbury Chamber and the Billerica Alliance. </span></span></span></div>\n\n<div style="background-color: transparent\; color: rgb(56\, 123\, 55)\; font-family: Arial\; font-size: 12px\; font-variant-numeric: normal\; font-variant-east-asian: normal\; text-align: center\; white-space: pre-wrap\;">&nbsp\;</div>\n\n<div style="background-color: transparent\; color: rgb(56\, 123\, 55)\; font-family: Arial\; font-size: 12px\; font-variant-numeric: normal\; font-variant-east-asian: normal\; text-align: center\; white-space: pre-wrap\;"><span style="font-size:14px\;"><span style="font-family:arial\;"><span style="color: rgb(22\, 49\, 22)\;">~ Complimentary Appetizers ~ </span></span></span></div>\n\n<div style="background-color: transparent\; color: rgb(56\, 123\, 55)\; font-family: Arial\; font-size: 12px\; font-variant-numeric: normal\; font-variant-east-asian: normal\; text-align: center\; white-space: pre-wrap\;"><span style="font-size:14px\;"><span style="font-family:arial\;"><span style="color: rgb(22\, 49\, 22)\;">Cash Bar </span></span></span></div>\n</div>\n</div>\n
LOCATION:Escapology 345 Main Street Tewksbury
UID:e.2938.5230
SEQUENCE:3
DTSTAMP:20260425T154049Z
URL:https://business.wilmingtontewksburychamber.org/events/details/business-after-hours-escapology-5230
END:VEVENT

END:VCALENDAR
