BEGIN:VCALENDAR
VERSION:2.0
PRODID:-//ChamberMaster//Event Calendar 2.0//EN
METHOD:PUBLISH
X-PUBLISHED-TTL:P3D
REFRESH-INTERVAL:P3D
CALSCALE:GREGORIAN
BEGIN:VEVENT
DTSTART:20180516T114500Z
DTEND:20180516T140000Z
X-MICROSOFT-CDO-ALLDAYEVENT:FALSE
SUMMARY:Breakfast Seminar - Audience Engagement: The Art of Storytelling for Leaders
DESCRIPTION:Join Enterprise Bank and your business peers on Wednesday\, May 16 as we celebrate the women in our local communities and learn about storytelling techniques for our businesses and careers. \n\n\n\nFEATURED PRESENTATION\n\nAudience Engagement: The Art of Storytelling for Leaders\n\nBy Kerri Garbis\n\nPresident and co-founder of Ovation Communication\n\nBusiness Etiquette Expert\, Emotional Intelligence Expert\n\nAuthor and Professional Actress\n\nWhen was the last time a presentation made you sit up and take notice? Did that presenter tell you a story? Storytelling is the most effective way to get a message across to any audience. It allows you to connect emotionally with your listeners\, persuade them more easily\, and garner the results you want.\n\n\n\nThis highly interactive session is tailored to career women and business owners. Kerri will introduce you to the six major components needed for a complete story\, the different types of stories you can tell\, and where/when to tell a story. You will learn how to present with poise and engage your audience in a positive\, memorable manner as well as the professional's go-to techniques for conquering stage fright. Time-tested storytelling techniques will be applied to modern day storytelling for your business and career.\n\n\n\nDetails and Registration\n\n \n\n\nGUEST PRESENTER\n\n\n\nKerri Garbis\n\n\n\nPresident and co-founder at Ovation Communication\, Author\, Actress\n\n\n\n \n\n\n\n Kerri Garbis brings enthusiasm\, humor and energy to her international seminars on presentation skills\, storytelling and emotional intelligence. Kerri is a certified Business Etiquette and Emotional Intelligence Expert as well as a published author. A professional actress since childhood\, Kerri has starred in productions of Evita\, Singin' In The Rain\, and The Lady With All the Answers (a one-woman play about Ann Landers) to name a few.
X-ALT-DESC;FMTTYPE=text/html:<p style="color: rgb(60\, 60\, 60)\; font-family: Arial\, Helvetica\, sans-serif\; font-size: 12px\; font-variant-numeric: normal\; font-variant-east-asian: normal\; margin: 0px 0px 10.66px\; padding: 0px\;"><br />\n<span style="font-size:16px\;"><span title=""><strong><span style="color: rgb(0\, 0\, 0)\;" title="">Join Enterprise Bank and your business peers on Wednesday\,&nbsp\;May 16&nbsp\;as we celebrate the women in our local communities and&nbsp\;learn about storytelling techniques&nbsp\;for our businesses and careers.&nbsp\;</span></strong></span></span></p>\n\n<p style="color: rgb(60\, 60\, 60)\; font-family: Arial\, Helvetica\, sans-serif\; font-size: 12px\; font-variant-numeric: normal\; font-variant-east-asian: normal\; margin: 0px 0px 10.66px\; padding: 0px\; text-align: center\;"><br />\n<span style="color: rgb(0\, 0\, 0)\; font-size: 13.33px\;" title="">FEATURED PRESENTATION<br />\n<strong><span title=""><span style="color: rgb(8\, 87\, 43)\; font-size: 16px\;" title="">Audience Engagement: The Art of Storytelling for Leaders</span><br />\nBy Kerri Garbis</span></strong><br />\n<em><span title="">President and co-founder of Ovation Communication</span><br />\n<span title="">Business Etiquette <font color="#000000">Expert\, Emotional Intelligence Expert</font></span><br />\n<span title=""><font color="#000000">Author and Professional Actress</font></span></em></span></p>\n\n<p style="color: rgb(60\, 60\, 60)\; font-family: Arial\, Helvetica\, sans-serif\; font-size: 12px\; font-variant-numeric: normal\; font-variant-east-asian: normal\; margin: 0px 0px 10.66px\; padding: 0px\;"><span style="color: rgb(0\, 0\, 0)\;" title=""><span style="font-size: 13.33px\;" title="">When was the last time a presentation made you sit up and take notice? Did that presenter tell you a story? Storytelling is the most effective way to get a message across to any audience. It allows you to connect emotionally with your listeners\, persuade them more easily\, and garner the results you want.</span><br />\n<br />\n<span title=""><span style="font-size: 13.33px\;" title="">This highly interactive session is tailored to career women and business owners. Kerri will introduce you to the six major components needed for a complete story\, the different types of stories you can tell\, and where/when to tell a story. You will learn how to present with poise and engage your audience in a positive\, memorable manner as well as the professional&rsquo\;s go-to techniques for conquering stage fright. </span><span title=""><span style="font-size: 13.33px\;" title="">Time-tested storytelling techniques will be applied to modern day storytelling for your business and career.<br />\n<br />\n<a href="http://events.r20.constantcontact.com/register/event?oeidk=a07ef2t3o185071f495&amp\;llr=f689pxdab" target="_blank">Details and Registration</a></span></span></span></span><br />\n&nbsp\;</p>\n\n<div style="color: rgb(33\, 33\, 33)\; font-size: 16px\; font-variant-numeric: normal\; font-variant-east-asian: normal\; text-align: center\;">\n<div style="margin: 0px\; text-align: left\;"><font face="Calibri\,sans-serif" size="2"><span style="font-size: 14.66px\;"><font color="#010502" face="Arial\,sans-serif" size="2"><span style="font-size: 14px\;">GUEST PRESENTER</span></font></span></font></div>\n</div>\n\n<div style="color: rgb(33\, 33\, 33)\; font-size: 16px\; font-variant-numeric: normal\; font-variant-east-asian: normal\; text-align: center\;">\n<div style="margin: 0px\; text-align: left\;"><font face="Calibri\,sans-serif" size="2"><span style="font-size: 14.66px\;"><font color="#124a1a" face="Arial\,sans-serif" size="4"><span style="font-size: 18px\;"><b>Kerri Garbis</b></span></font></span></font></div>\n</div>\n\n<div style="color: rgb(33\, 33\, 33)\; font-size: 16px\; font-variant-numeric: normal\; font-variant-east-asian: normal\; text-align: center\;">\n<div style="margin: 0px\; text-align: left\;"><font face="Calibri\,sans-serif" size="2"><span style="font-size: 14.66px\;"><font color="#030303" face="Arial\,sans-serif" size="2"><span style="font-size: 14px\;"><i>President and co-founder at&nbsp\;Ovation Communication\, Author\, Actress</i></span></font></span></font></div>\n</div>\n\n<div style="color: rgb(33\, 33\, 33)\; font-size: 16px\; font-variant-numeric: normal\; font-variant-east-asian: normal\; text-align: center\;">\n<div style="margin: 0px\; text-align: left\;"><font face="Calibri\,sans-serif" size="2"><span style="font-size: 14.66px\;"><font color="#36495f" face="Arial\,sans-serif" size="2"><span style="font-size: 14px\;">&nbsp\;</span></font></span></font></div>\n</div>\n\n<div style="color: rgb(33\, 33\, 33)\; font-size: 16px\; font-variant-numeric: normal\; font-variant-east-asian: normal\; text-align: center\;">\n<div style="margin: 0px\; text-align: left\;"><font face="Calibri\,sans-serif" size="2"><span style="font-size: 14.66px\;"><font color="#030303" face="Arial\,sans-serif" size="2"><span style="font-size: 14px\;">&#65279\;Kerri Garbis brings enthusiasm\, humor and energy to her international seminars on presentation skills\, storytelling and emotional intelligence. Kerri is a certified Business Etiquette and Emotional Intelligence Expert as well as a published author. A professional actress since childhood\, Kerri has starred in productions of </span></font><font color="#030303" face="Arial\,sans-serif" size="2"><span style="font-size: 14px\;"><i>Evita</i></span></font><font color="#030303" face="Arial\,sans-serif" size="2"><span style="font-size: 14px\;">\, </span></font><font color="#030303" face="Arial\,sans-serif" size="2"><span style="font-size: 14px\;"><i>Singin&rsquo\; In The Rain</i></span></font><font color="#030303" face="Arial\,sans-serif" size="2"><span style="font-size: 14px\;">\, and </span></font><font color="#030303" face="Arial\,sans-serif" size="2"><span style="font-size: 14px\;"><i>The Lady With All the Answers </i></span></font><font color="#030303" face="Arial\,sans-serif" size="2"><span style="font-size: 14px\;">(a one-woman play about Ann Landers) to name a few.</span></font></span></font></div>\n</div>\n\n<p style="color: rgb(60\, 60\, 60)\; font-family: Arial\, Helvetica\, sans-serif\; font-size: 12px\; font-variant-numeric: normal\; font-variant-east-asian: normal\; margin: 0px 0px 10.66px\; padding: 0px\;">&nbsp\;</p>\n
LOCATION:Devens Common Center 31 Andrews Parkway Devens\, MA 01434
UID:e.2938.3182
SEQUENCE:3
DTSTAMP:20260426T004252Z
URL:https://business.wilmingtontewksburychamber.org/events/details/breakfast-seminar-audience-engagement-the-art-of-storytelling-for-leaders-3182
END:VEVENT

END:VCALENDAR
