BEGIN:VCALENDAR
VERSION:2.0
PRODID:-//ChamberMaster//Event Calendar 2.0//EN
METHOD:PUBLISH
X-PUBLISHED-TTL:P3D
REFRESH-INTERVAL:P3D
CALSCALE:GREGORIAN
BEGIN:VEVENT
DTSTART:20190522T123000Z
DTEND:20190522T140000Z
X-MICROSOFT-CDO-ALLDAYEVENT:FALSE
SUMMARY:Breakfast & Networking at Bayberry
DESCRIPTION:Join us to connect with local business and other industry professionals! Amazing Full Complimentary Breakfast prepared by our culinary team and Head Chef Victor.\n\nBring your business card for our raffle of 2 Red Sox tickets!
X-ALT-DESC;FMTTYPE=text/html:Join us to connect with local business and other industry professionals! Amazing Full Complimentary Breakfast prepared by our culinary team and Head Chef Victor.<br />\nBring your business card for our raffle of 2 Red Sox tickets!<br />\n&nbsp\;
LOCATION:Bayberry at Emerald Court 2000 Emerald Court Tewksbury\, MA
UID:e.2938.5295
SEQUENCE:3
DTSTAMP:20260425T025712Z
URL:https://business.wilmingtontewksburychamber.org/events/details/breakfast-networking-at-bayberry-5295
END:VEVENT

END:VCALENDAR
