BEGIN:VCALENDAR
VERSION:2.0
PRODID:-//ChamberMaster//Event Calendar 2.0//EN
METHOD:PUBLISH
X-PUBLISHED-TTL:P3D
REFRESH-INTERVAL:P3D
CALSCALE:GREGORIAN
BEGIN:VEVENT
DTSTART:20200310T130000Z
DTEND:20200310T143000Z
X-MICROSOFT-CDO-ALLDAYEVENT:FALSE
SUMMARY:Board of Directors Meeting
DESCRIPTION:Monthly Board of Directors meeting
X-ALT-DESC;FMTTYPE=text/html:Monthly Board of Directors meeting
LOCATION:Chamber Office 226 Lowell Street\, Suite B4A\, Wilmington
UID:e.2938.6628
SEQUENCE:3
DTSTAMP:20260424T144710Z
URL:https://business.wilmingtontewksburychamber.org/events/details/board-of-directors-meeting-6628
END:VEVENT

END:VCALENDAR
