BEGIN:VCALENDAR
VERSION:2.0
PRODID:-//ChamberMaster//Event Calendar 2.0//EN
METHOD:PUBLISH
X-PUBLISHED-TTL:P3D
REFRESH-INTERVAL:P3D
CALSCALE:GREGORIAN
BEGIN:VEVENT
DTSTART:20180614T213000Z
DTEND:20180614T233000Z
X-MICROSOFT-CDO-ALLDAYEVENT:FALSE
SUMMARY:An Evening with the Marathon Man
DESCRIPTION:Please join us for an evening with David McGillivray as he shares his experiences as:\n\n \n\n\n	Race director of the BAA Boston Marathon\n	World Marathon Challenge - 7 Marathons\, 7 Continents\, 7 days\n	Co-Author of "Dream Big" & "The Last Pick"\n	World renowned athlete\, entrepreneur\, speaker and philanthropist
X-ALT-DESC;FMTTYPE=text/html:<div align="center" style="color: rgb(56\, 123\, 55)\; font-family: Arial\; font-size: 12px\; font-variant-numeric: normal\; font-variant-east-asian: normal\; text-align: center\;"><span style="font-family: Cambria\,Georgia\,Times New Roman\,serif\,serif\,&amp\;quot\;EmojiFont&amp\;quot\;\; font-size: 24px\; font-weight: 700\;">Please join us for an evening with David McGillivray as he shares his experiences as:</span></div>\n\n<div align="center" style="color: rgb(56\, 123\, 55)\; font-family: Arial\; font-size: 12px\; font-variant-numeric: normal\; font-variant-east-asian: normal\; text-align: center\;">&nbsp\;</div>\n\n<ul style="color: rgb(56\, 123\, 55)\; font-family: Arial\; font-size: 12px\; font-variant-numeric: normal\; font-variant-east-asian: normal\; margin: 0px 0px 0px 40px\; padding: 0px\;">\n	<li style="font-size: 16px\; line-height: 19.2px\; margin-bottom: 0px\; margin-left: 0px\; margin-right: 0px\; margin-top: 0px\; padding-bottom: 0px\; padding-left: 0px\; padding-right: 0px\; padding-top: 0px\;">Race director of the BAA Boston Marathon</li>\n	<li style="font-size: 16px\; line-height: 19.2px\; margin-bottom: 0px\; margin-left: 0px\; margin-right: 0px\; margin-top: 0px\; padding-bottom: 0px\; padding-left: 0px\; padding-right: 0px\; padding-top: 0px\;">World Marathon Challenge - 7 Marathons\, 7 Continents\, 7 days</li>\n	<li style="font-size: 16px\; line-height: 19.2px\; margin-bottom: 0px\; margin-left: 0px\; margin-right: 0px\; margin-top: 0px\; padding-bottom: 0px\; padding-left: 0px\; padding-right: 0px\; padding-top: 0px\;">Co-Author of &ldquo\;Dream Big&quot\; &amp\; &quot\;The Last Pick&rdquo\;</li>\n	<li style="font-size: 16px\; line-height: 19.2px\; margin-bottom: 0px\; margin-left: 0px\; margin-right: 0px\; margin-top: 0px\; padding-bottom: 0px\; padding-left: 0px\; padding-right: 0px\; padding-top: 0px\;">World renowned athlete\, entrepreneur\, speaker and philanthropist&nbsp\;</li>\n</ul>\n
LOCATION:CareOne Wilmington Courtyard 750 Woburn Street Wilmington
UID:e.2938.3185
SEQUENCE:3
DTSTAMP:20260426T002131Z
URL:https://business.wilmingtontewksburychamber.org/events/details/an-evening-with-the-marathon-man-3185
END:VEVENT

END:VCALENDAR
