BEGIN:VCALENDAR
VERSION:2.0
PRODID:-//ChamberMaster//Event Calendar 2.0//EN
METHOD:PUBLISH
X-PUBLISHED-TTL:P3D
REFRESH-INTERVAL:P3D
CALSCALE:GREGORIAN
BEGIN:VEVENT
DTSTART:20181107T221500Z
DTEND:20181108T003000Z
X-MICROSOFT-CDO-ALLDAYEVENT:FALSE
SUMMARY:Align Credit Union Business After-Hours Anniversary Celebration at Pacific Grove
DESCRIPTION:Please join us in celebrating Align Credit Union's 1 year anniversary of their Wilmington branch in Lucci's Plaza. President & CEO\, Ken Del Rossi will kick-off the celebration at the branch at 5:15 pm followed by a Business After-Hours reception at Pacific Grove Restaurant.\n\n\n \n\nThese two Chamber member businesses share a parking lot and are just steps away from each other. They are excited to work together again to host a casual\, fun networking evening and anniversary celebration. Don't miss this opportunity to mix & mingle with professionals from the Wilmington/Tewksbury Chamber of Commerce.\n\n\n\n~ Complimentary Chinese Food ~ Cash Bar
X-ALT-DESC;FMTTYPE=text/html:<div style="background-color: transparent\; color: rgb(56\, 123\, 55)\; cursor: text\; font-family: Arial\; font-size: 12px\; font-variant-numeric: normal\; font-variant-east-asian: normal\; outline: transparent none 0px\; white-space: pre-wrap\;">\n<div style="background-color: transparent\; color: rgb(56\, 123\, 55)\; cursor: text\; font-family: Arial\; font-size: 12px\; font-variant-numeric: normal\; font-variant-east-asian: normal\; outline: transparent none 0px\; white-space: pre-wrap\;"><span style="color:#000000\;"><span style="font-size:16px\;"><span style="font-family:arial\;">Please join us in celebrating Align Credit Union&#39\;s 1 year anniversary of their Wilmington branch in Lucci&rsquo\;s Plaza. President &amp\; CEO\, Ken Del Rossi will kick-off the celebration at the branch at 5:15 pm followed by a Business After-Hours reception at Pacific Grove Restaurant.</span></span></span></div>\n</div>\n\n<div style="background-color: transparent\; color: rgb(56\, 123\, 55)\; cursor: text\; font-family: Arial\; font-size: 12px\; font-variant-numeric: normal\; font-variant-east-asian: normal\; outline: transparent none 0px\; white-space: pre-wrap\;">&nbsp\;</div>\n\n<div style="background-color: transparent\; color: rgb(56\, 123\, 55)\; cursor: text\; font-family: Arial\; font-size: 12px\; font-variant-numeric: normal\; font-variant-east-asian: normal\; outline: transparent none 0px\; white-space: pre-wrap\;"><span style="color:#000000\;"><span style="font-size:16px\;"><span style="font-family:arial\;">These two Chamber member businesses share a parking lot and are just steps away from each other.&nbsp\;They are excited to work together again to host a casual\, fun networking evening and anniversary celebration. Don&#39\;t miss this opportunity to mix &amp\; mingle with professionals from the Wilmington/Tewksbury Chamber of Commerce.</span></span></span></div>\n\n<div style="background-color: transparent\; color: rgb(56\, 123\, 55)\; cursor: text\; font-family: Arial\; font-size: 12px\; font-variant-numeric: normal\; font-variant-east-asian: normal\; outline: transparent none 0px\; white-space: pre-wrap\;"><br />\n<span style="color:#000000\;"><span style="font-size:16px\;"><span style="font-family:arial\;">~ Complimentary Chinese Food ~ Cash Bar</span></span></span></div>\n\n<p class="x_MsoNormal">&nbsp\;</p>\n
LOCATION:Pacific Grove 211 Lowell Street Wilmington\, MA 01887
UID:e.2938.5229
SEQUENCE:3
DTSTAMP:20260425T135358Z
URL:https://business.wilmingtontewksburychamber.org/events/details/align-credit-union-business-after-hours-anniversary-celebration-at-pacific-grove-5229
END:VEVENT

END:VCALENDAR
