BEGIN:VCALENDAR
VERSION:2.0
PRODID:-//ChamberMaster//Event Calendar 2.0//EN
METHOD:PUBLISH
X-PUBLISHED-TTL:P3D
REFRESH-INTERVAL:P3D
CALSCALE:GREGORIAN
BEGIN:VEVENT
DTSTART:20190828T210000Z
DTEND:20190828T230000Z
X-MICROSOFT-CDO-ALLDAYEVENT:FALSE
SUMMARY:After Hours Mixer with MVCC at Wamesit Lanes
DESCRIPTION:After Hours Mixer With MVCC at Wamesit Lanes\n\nFor the first time ever we are teaming up with the Merrimack Valley Chamber of Commerce to expand networking opportunities even further for our members. Come by our joint after hours mixer and meet some new friends\, build relationships\, and close out summer in style at Wamesit Lanes.
X-ALT-DESC;FMTTYPE=text/html:<div style="color: rgb(0\, 0\, 144)\; font-family: Arial\; font-size: 16px\; font-variant-numeric: normal\; font-variant-east-asian: normal\; font-weight: 700\; white-space: pre-wrap\;"><span style="font-family: Calibri\,Helvetica\,Arial\,sans-serif\; font-size: 22px\;">After Hours Mixer With MVCC at Wamesit Lanes</span><br />\n<span style="color: rgb(41\, 75\, 147)\; font-family: Calibri\, Helvetica\, Arial\, sans-serif\; font-size: 18px\; font-variant-numeric: normal\; font-variant-east-asian: normal\; font-weight: bold\; white-space: pre-wrap\;">For the first time ever we are teaming up with the Merrimack Valley Chamber of Commerce to expand networking opportunities even further for our members. Come by our joint after hours mixer and meet some new friends\, build relationships\, and close out summer in style at Wamesit Lanes. </span></div>\n
LOCATION:Wamesit Lanes 434 Main Street Tewksbury
UID:e.2938.5507
SEQUENCE:3
DTSTAMP:20260424T214649Z
URL:https://business.wilmingtontewksburychamber.org/events/details/after-hours-mixer-with-mvcc-at-wamesit-lanes-5507
END:VEVENT

END:VCALENDAR
