BEGIN:VCALENDAR
VERSION:2.0
PRODID:-//ChamberMaster//Event Calendar 2.0//EN
METHOD:PUBLISH
X-PUBLISHED-TTL:P3D
REFRESH-INTERVAL:P3D
CALSCALE:GREGORIAN
BEGIN:VEVENT
DTSTART:20190506T230000Z
DTEND:20190507T000000Z
X-MICROSOFT-CDO-ALLDAYEVENT:FALSE
SUMMARY:Aerial Photographs of Wilmington
DESCRIPTION:We have all seen and taken pictures of our favorite places in Wilmington. But have you seen that same view from above? Joe Turner\, a Stoneham professional aerial photographer\, will show us views of our town from the treetop level.\n\n \n\nStep back in time and view a comparison of iconic Wilmington buildings and places alongside historic pictures of the same familiar sites.\n\nA reception with light refreshments will be held Monday\, May 6 at 7 PM.
X-ALT-DESC;FMTTYPE=text/html:<span style="background:white\;"><span style="color:#111111\;"><span style="font-size:20.0pt\;">We have all seen and taken pictures of our favorite places in Wilmington. But have you seen that same view from above? Joe Turner\, a Stoneham professional aerial photographer\, will show us views of our town from the treetop level.</span></span></span><br />\n&nbsp\;<br />\n<span style="background:white\;"><span style="color:#111111\;"><span style="font-size:20.0pt\;">Step back in time and view a comparison of iconic Wilmington buildings and places alongside historic pictures of the same familiar sites.</span></span></span><br />\n<span style="font-size:20.0pt\;">A reception with light refreshments will be held Monday\, May 6 at 7 PM.</span><br />\n&nbsp\;
LOCATION:Wilmington Memorial Library 175 Middlesex Avenue Wilmington\, MA 01887
UID:e.2938.5284
SEQUENCE:3
DTSTAMP:20260425T030504Z
URL:https://business.wilmingtontewksburychamber.org/events/details/aerial-photographs-of-wilmington-5284
END:VEVENT

END:VCALENDAR
