BEGIN:VCALENDAR
VERSION:2.0
PRODID:-//ChamberMaster//Event Calendar 2.0//EN
METHOD:PUBLISH
X-PUBLISHED-TTL:P3D
REFRESH-INTERVAL:P3D
CALSCALE:GREGORIAN
BEGIN:VEVENT
DTSTART:20190129T233000Z
DTEND:20190130T010000Z
X-MICROSOFT-CDO-ALLDAYEVENT:FALSE
SUMMARY:Abundant Life Christian School and Learning Center Open House
DESCRIPTION:The Abundant Life Christian School and Learning Center will be holding an Open House for Infants through 5th Grade on Tuesday\, January 29\, 2019 from 6:30   8:00 pm for families of infants through 5th grade for the 2019-2020 school year. Growing Kids God's Way since 1982.\n\nAbundant Life Christian School is located at 173 Church Street\, Wilmington\, across from the Wilmington Town Common. Tel: 978-657-8710\, www.ablifeschool.com
X-ALT-DESC;FMTTYPE=text/html:<p>The Abundant Life Christian School and Learning Center will be holding an Open House for Infants through 5<sup>th</sup> Grade on Tuesday\, January 29\, 2019 from 6:30 &ndash\; 8:00 pm for families of infants through 5<sup>th</sup> grade for the 2019-2020 school year. Growing Kids God&#39\;s Way since 1982.</p>\n\n<p>Abundant Life Christian School is located at 173 Church Street\, Wilmington\, across from the Wilmington Town Common. Tel: 978-657-8710\, www.ablifeschool.com</p>\n
LOCATION:Abundant Life Christian School and Learning Center\, 173 Church Street\, Wilmington\, MA 01887
UID:e.2938.5251
SEQUENCE:3
DTSTAMP:20260425T115737Z
URL:https://business.wilmingtontewksburychamber.org/events/details/abundant-life-christian-school-and-learning-center-open-house-5251
END:VEVENT

END:VCALENDAR
