BEGIN:VCALENDAR
VERSION:2.0
PRODID:-//ChamberMaster//Event Calendar 2.0//EN
METHOD:PUBLISH
X-PUBLISHED-TTL:P3D
REFRESH-INTERVAL:P3D
CALSCALE:GREGORIAN
BEGIN:VEVENT
DTSTART:20190711T220000Z
DTEND:20190712T000000Z
X-MICROSOFT-CDO-ALLDAYEVENT:FALSE
SUMMARY:AAA Travel Event
DESCRIPTION:From castles and kilts to legends and lochs\, Ireland\, Scotland and Great Britain have it all. Discover hand-crafted travel experiences and must-see highlights during an exclusive evening with Brendan Vacations and AAA Travel.\n\n\n\nTIME: 6:00 PM - 8:00 PM\n\nDATE: THURSDAY\, JULY 11\, 2019\n\nVENUE: WAMESIT LANES\, 434 MAIN STREET\, TEWKSBURY\, MA \n\n\n\nDON'T MISS THIS FREE EVENT PLUS SPECIAL OFFERS*  TOWARDS YOUR NEXT AMAZING VACATION
X-ALT-DESC;FMTTYPE=text/html:From castles and kilts to legends and lochs\, Ireland\, Scotland and Great Britain have it all. Discover hand-crafted travel experiences and must-see highlights during an exclusive evening with Brendan Vacations and AAA Travel.<br />\n<br />\nTIME: 6:00 PM - 8:00 PM<br />\nDATE: THURSDAY\, JULY 11\, 2019<br />\nVENUE: WAMESIT LANES\, 434 MAIN STREET\, TEWKSBURY\, MA&nbsp\;<br />\n<br />\nDON&rsquo\;T MISS THIS FREE EVENT PLUS SPECIAL OFFERS*&nbsp\; TOWARDS YOUR NEXT AMAZING VACATION
LOCATION:Wamesit Lanes 434 Main Street Tewksbury\, MA 01876
UID:e.2938.5504
SEQUENCE:3
DTSTAMP:20260424T234041Z
URL:https://business.wilmingtontewksburychamber.org/events/details/aaa-travel-event-5504
END:VEVENT

END:VCALENDAR
