BEGIN:VCALENDAR
VERSION:2.0
PRODID:-//ChamberMaster//Event Calendar 2.0//EN
METHOD:PUBLISH
X-PUBLISHED-TTL:P3D
REFRESH-INTERVAL:P3D
CALSCALE:GREGORIAN
BEGIN:VEVENT
DTSTART:20170321T123000Z
DTEND:20170321T140000Z
X-MICROSOFT-CDO-ALLDAYEVENT:FALSE
SUMMARY:56th Annual Meeting
DESCRIPTION:YOU ARE INVITED TO OUR\n\n \n\nANNUAL MEETING\n\n \n\ncelebrating 56 years of service to\n\nour Business Community!\n\n \n\n	Member Networking\n	2016 Year In Review\n	2017 Happenings\n	Induction of 2017-18 Officers\n\nand Directors\n\n \n\n~ BUFFET BREAKFAST ~
X-ALT-DESC;FMTTYPE=text/html:<span style="color:#000090\;"><span style="font-family:arial\,sans-serif\;">YOU ARE INVITED TO OUR</span></span><br />\n&nbsp\;<br />\n<strong><span style="color:red\;"><span style="font-family:arial\,sans-serif\;">ANNUAL MEETING</span></span></strong><br />\n&nbsp\;<br />\n<span style="color:#000090\;"><span style="font-family:arial\,sans-serif\;">celebrating 56 years of service to</span></span><br />\n<span style="color:#000090\;"><span style="font-family:arial\,sans-serif\;">our Business Community!<br />\n&nbsp\;</span></span>\n<ul>\n	<li><span style="color:#000090\;"><span style="font-family:arial\,sans-serif\;">Member Networking</span></span></li>\n	<li><span style="color:#000090\;"><span style="font-family:arial\,sans-serif\;">2016 Year In Review</span></span></li>\n	<li><span style="color:#000090\;"><span style="font-family:arial\,sans-serif\;">2017 Happenings</span></span></li>\n	<li><span style="color:#000090\;"><span style="font-family:arial\,sans-serif\;">Induction of 2017-18 Officers</span></span></li>\n</ul>\n<span style="color:#000090\;"><span style="font-family:arial\,sans-serif\;">and Directors<br />\n&nbsp\;</span></span><br />\n<strong><span style="color:red\;"><span style="font-family:arial\,sans-serif\;">~ BUFFET BREAKFAST ~</span></span></strong>
LOCATION:Windsor Place of Wilmington 92 West Street\, Wilmington
UID:e.2938.8
SEQUENCE:3
DTSTAMP:20260421T034933Z
URL:https://business.wilmingtontewksburychamber.org/events/details/56th-annual-meeting-8
END:VEVENT

END:VCALENDAR
