BEGIN:VCALENDAR
VERSION:2.0
PRODID:-//ChamberMaster//Event Calendar 2.0//EN
METHOD:PUBLISH
X-PUBLISHED-TTL:P3D
REFRESH-INTERVAL:P3D
CALSCALE:GREGORIAN
BEGIN:VEVENT
DTSTART:20181013T130000Z
DTEND:20181013T230000Z
X-MICROSOFT-CDO-ALLDAYEVENT:FALSE
SUMMARY:4th Annual Laurel Kluge 5K Ribbon Run/Walk
DESCRIPTION:Join us for our 4th annual Laurel Kluge 5K Ribbon Run and Walk!\n\nIn honor of Laurel's memory\, help us grow our Pink and LiveSTRONG programs:\n\nHELPING CANCER SURVIVORS AND THOSE IN TREATMENT ACHIEVE A HEALTHIER TOMORROW\, AND GET BACK TO LIFE AFTER CANCER.\n\n \n\nT-shirts for the first 200 registrants!\n\nBRING THE WHOLE FAMILY!  \n\nFREE BABYSITTING (ages 3-8) &  BOUNCY HOUSE\n\nRACE AWARDS!  LIVE MUSIC!  FOOD by JOE'S AMERICAN!
X-ALT-DESC;FMTTYPE=text/html:<p align="center" style="background-color: transparent\; border: 0px none rgb(0\, 0\, 0)\; color: rgb(0\, 0\, 0)\; font-size: 14px\; font-variant-numeric: normal\; font-variant-east-asian: normal\; line-height: 21.33px\; margin: 0px\; outline-style: none\; outline-width: 0px\; padding: 0px\; text-align: center\; vertical-align: baseline\;"><span style="border: 0px none rgb(0\, 0\, 0)\; font-weight: 700\; margin: 0px\; outline-style: none\; outline-width: 0px\; padding: 0px\; vertical-align: baseline\;"><span lang="EN" style="border: 0px none rgb(51\, 51\, 51)\; color: rgb(51\, 51\, 51)\; font-size: 13.33px\; font-style: normal\; line-height: 20px\; margin: 0px\; outline-style: none\; outline-width: 0px\; padding: 0px\; vertical-align: baseline\;"><font face="Verdana" style="border: 0px none rgb(51\, 51\, 51)\; font-family: Verdana\; margin: 0px\; outline-style: none\; outline-width: 0px\; padding: 0px\; vertical-align: baseline\;">Join us for our 4th annual Laurel Kluge 5K Ribbon Run and Walk!</font></span></span></p>\n\n<p align="center" style="background-color: transparent\; border: 0px none rgb(0\, 0\, 0)\; color: rgb(0\, 0\, 0)\; font-size: 14px\; font-variant-numeric: normal\; font-variant-east-asian: normal\; line-height: 21.33px\; margin: 0px\; outline-style: none\; outline-width: 0px\; padding: 0px\; text-align: center\; vertical-align: baseline\;"><span style="border: 0px none rgb(0\, 0\, 0)\; font-weight: 700\; margin: 0px\; outline-style: none\; outline-width: 0px\; padding: 0px\; vertical-align: baseline\;"><span lang="EN" style="border: 0px none rgb(51\, 51\, 51)\; color: rgb(51\, 51\, 51)\; font-size: 13.33px\; font-style: normal\; line-height: 20px\; margin: 0px\; outline-style: none\; outline-width: 0px\; padding: 0px\; vertical-align: baseline\;"><font color="#000000" style="border: 0px none rgb(0\, 0\, 0)\; margin: 0px\; outline-style: none\; outline-width: 0px\; padding: 0px\; vertical-align: baseline\;"><font face="Verdana" style="border: 0px none rgb(0\, 0\, 0)\; font-family: Verdana\; margin: 0px\; outline-style: none\; outline-width: 0px\; padding: 0px\; vertical-align: baseline\;"><span style="border: 0px none rgb(0\, 0\, 0)\; margin: 0px\; outline-style: none\; outline-width: 0px\; padding: 0px\; vertical-align: baseline\;"><span lang="EN" style="border: 0px none rgb(51\, 51\, 51)\; color: rgb(51\, 51\, 51)\; font-style: normal\; line-height: 16px\; margin: 0px\; outline-style: none\; outline-width: 0px\; padding: 0px\; vertical-align: baseline\;">In honor of Laurel&#39\;s memory\, help us grow our Pink and LiveSTRONG programs:</span></span></font></font></span></span></p>\n\n<p style="background-color: transparent\; border: 0px none rgb(0\, 0\, 0)\; color: rgb(0\, 0\, 0)\; font-size: 14px\; font-variant-numeric: normal\; font-variant-east-asian: normal\; margin: 0px\; outline-style: none\; outline-width: 0px\; padding: 0px\; text-align: center\; vertical-align: baseline\;"><font color="#000000" style="border: 0px none rgb(0\, 0\, 0)\; margin: 0px\; outline-style: none\; outline-width: 0px\; padding: 0px\; vertical-align: baseline\;"><font face="Verdana" style="border: 0px none rgb(0\, 0\, 0)\; font-family: Verdana\; margin: 0px\; outline-style: none\; outline-width: 0px\; padding: 0px\; vertical-align: baseline\;"><span style="border: 0px none rgb(0\, 0\, 0)\; font-weight: 700\; margin: 0px\; outline-style: none\; outline-width: 0px\; padding: 0px\; vertical-align: baseline\;"><span lang="EN" style="border: 0px none rgb(51\, 51\, 51)\; color: rgb(51\, 51\, 51)\; font-size: 13.33px\; font-style: normal\; line-height: 16px\; margin: 0px\; outline-style: none\; outline-width: 0px\; padding: 0px\; vertical-align: baseline\;">HELPING CANCER SURVIVORS AND THOSE IN TREATMENT&nbsp\;ACHIEVE A HEALTHIER TOMORROW\, AND GET BACK TO LIFE AFTER CANCER.</span></span></font></font></p>\n\n<p style="background-color: transparent\; border: 0px none rgb(0\, 0\, 0)\; color: rgb(0\, 0\, 0)\; font-size: 14px\; font-variant-numeric: normal\; font-variant-east-asian: normal\; margin: 0px\; outline-style: none\; outline-width: 0px\; padding: 0px\; text-align: center\; vertical-align: baseline\;">&nbsp\;</p>\n\n<p style="background-color: transparent\; border: 0px none rgb(0\, 0\, 0)\; color: rgb(0\, 0\, 0)\; font-size: 14px\; font-variant-numeric: normal\; font-variant-east-asian: normal\; margin: 0px\; outline-style: none\; outline-width: 0px\; padding: 0px\; text-align: center\; vertical-align: baseline\;"><font color="#000000" face="Times New Roman" style="border: 0px none rgb(0\, 0\, 0)\; font-family: &quot\;Times New Roman&quot\;\; margin: 0px\; outline-style: none\; outline-width: 0px\; padding: 0px\; vertical-align: baseline\;"><font face="Verdana" style="border: 0px none rgb(0\, 0\, 0)\; font-family: Verdana\; margin: 0px\; outline-style: none\; outline-width: 0px\; padding: 0px\; vertical-align: baseline\;"><font face="Verdana" style="border: 0px none rgb(0\, 0\, 0)\; margin: 0px\; outline-style: none\; outline-width: 0px\; padding: 0px\; vertical-align: baseline\;"><font color="#000000" face="Times New Roman" style="border: 0px none rgb(0\, 0\, 0)\; font-family: &quot\;Times New Roman&quot\;\; margin: 0px\; outline-style: none\; outline-width: 0px\; padding: 0px\; vertical-align: baseline\;"><span style="border: 0px none rgb(0\, 0\, 0)\; margin: 0px\; outline-style: none\; outline-width: 0px\; padding: 0px\; vertical-align: baseline\;"><span style="border: 0px none rgb(0\, 0\, 0)\; line-height: 19.99px\; margin: 0px\; outline-style: none\; outline-width: 0px\; padding: 0px\; vertical-align: baseline\;"><span style="border: 0px none rgb(0\, 0\, 0)\; margin: 0px\; outline-style: none\; outline-width: 0px\; padding: 0px\; vertical-align: baseline\;"><span style="border: 0px none rgb(0\, 0\, 0)\; line-height: 19.99px\; margin: 0px\; outline-style: none\; outline-width: 0px\; padding: 0px\; vertical-align: baseline\;"><span style="border: 0px none rgb(0\, 0\, 0)\; font-weight: 700\; margin: 0px\; outline-style: none\; outline-width: 0px\; padding: 0px\; vertical-align: baseline\;"><font face="Verdana" style="border: 0px none rgb(0\, 0\, 0)\; font-family: Verdana\; margin: 0px\; outline-style: none\; outline-width: 0px\; padding: 0px\; vertical-align: baseline\;">T-shirts for the first 200 registrants!</font></span></span></span></span></span></font></font></font></font></p>\n\n<p style="background-color: transparent\; border: 0px none rgb(0\, 0\, 0)\; color: rgb(0\, 0\, 0)\; font-size: 14px\; font-variant-numeric: normal\; font-variant-east-asian: normal\; margin: 0px\; outline-style: none\; outline-width: 0px\; padding: 0px\; text-align: center\; vertical-align: baseline\;"><font color="#000000" face="Times New Roman" style="border: 0px none rgb(0\, 0\, 0)\; font-family: &quot\;Times New Roman&quot\;\; margin: 0px\; outline-style: none\; outline-width: 0px\; padding: 0px\; vertical-align: baseline\;"><font face="Verdana" style="border: 0px none rgb(0\, 0\, 0)\; font-family: Verdana\; margin: 0px\; outline-style: none\; outline-width: 0px\; padding: 0px\; vertical-align: baseline\;"><font face="Verdana" style="border: 0px none rgb(0\, 0\, 0)\; margin: 0px\; outline-style: none\; outline-width: 0px\; padding: 0px\; vertical-align: baseline\;"><font color="#000000" face="Verdana" style="border: 0px none rgb(0\, 0\, 0)\; margin: 0px\; outline-style: none\; outline-width: 0px\; padding: 0px\; vertical-align: baseline\;"><span style="border: 0px none rgb(0\, 0\, 0)\; margin: 0px\; outline-style: none\; outline-width: 0px\; padding: 0px\; vertical-align: baseline\;"><span style="border: 0px none rgb(0\, 0\, 0)\; line-height: 19.99px\; margin: 0px\; outline-style: none\; outline-width: 0px\; padding: 0px\; vertical-align: baseline\;"><span style="border: 0px none rgb(0\, 0\, 0)\; margin: 0px\; outline-style: none\; outline-width: 0px\; padding: 0px\; vertical-align: baseline\;"><span style="border: 0px none rgb(0\, 0\, 0)\; line-height: 19.99px\; margin: 0px\; outline-style: none\; outline-width: 0px\; padding: 0px\; vertical-align: baseline\;"><font face="Verdana" style="border: 0px none rgb(0\, 0\, 0)\; margin: 0px\; outline-style: none\; outline-width: 0px\; padding: 0px\; vertical-align: baseline\;"><font face="Verdana" style="border: 0px none rgb(0\, 0\, 0)\; margin: 0px\; outline-style: none\; outline-width: 0px\; padding: 0px\; vertical-align: baseline\;"><font color="#000000" face="Times New Roman" style="border: 0px none rgb(0\, 0\, 0)\; font-family: &quot\;Times New Roman&quot\;\; margin: 0px\; outline-style: none\; outline-width: 0px\; padding: 0px\; vertical-align: baseline\;"><span style="border: 0px none rgb(0\, 0\, 0)\; margin: 0px\; outline-style: none\; outline-width: 0px\; padding: 0px\; vertical-align: baseline\;"><span style="border: 0px none rgb(0\, 0\, 0)\; line-height: 19.99px\; margin: 0px\; outline-style: none\; outline-width: 0px\; padding: 0px\; vertical-align: baseline\;"><span style="border: 0px none rgb(0\, 0\, 0)\; margin: 0px\; outline-style: none\; outline-width: 0px\; padding: 0px\; vertical-align: baseline\;"><span style="border: 0px none rgb(0\, 0\, 0)\; line-height: 19.99px\; margin: 0px\; outline-style: none\; outline-width: 0px\; padding: 0px\; vertical-align: baseline\;"><span style="border: 0px none rgb(0\, 0\, 0)\; font-weight: 700\; margin: 0px\; outline-style: none\; outline-width: 0px\; padding: 0px\; vertical-align: baseline\;"><font face="Verdana" style="border: 0px none rgb(0\, 0\, 0)\; font-family: Verdana\; margin: 0px\; outline-style: none\; outline-width: 0px\; padding: 0px\; vertical-align: baseline\;"><font face="Verdana" style="border: 0px none rgb(0\, 0\, 0)\; margin: 0px\; outline-style: none\; outline-width: 0px\; padding: 0px\; vertical-align: baseline\;"><font face="Verdana" style="border: 0px none rgb(0\, 0\, 0)\; margin: 0px\; outline-style: none\; outline-width: 0px\; padding: 0px\; vertical-align: baseline\;"><font face="Verdana" style="border: 0px none rgb(0\, 0\, 0)\; margin: 0px\; outline-style: none\; outline-width: 0px\; padding: 0px\; vertical-align: baseline\;"><span style="border: 0px none rgb(0\, 0\, 0)\; line-height: 19.99px\; margin: 0px\; outline-style: none\; outline-width: 0px\; padding: 0px\; vertical-align: baseline\;"><font color="#ff00ff" style="border: 0px none rgb(255\, 0\, 255)\; margin: 0px\; outline-style: none\; outline-width: 0px\; padding: 0px\; vertical-align: baseline\;"><span style="border: 0px none rgb(255\, 0\, 255)\; line-height: 19.99px\; margin: 0px\; outline-style: none\; outline-width: 0px\; padding: 0px\; vertical-align: baseline\;"><font color="#ff00ff" style="border: 0px none rgb(255\, 0\, 255)\; margin: 0px\; outline-style: none\; outline-width: 0px\; padding: 0px\; vertical-align: baseline\;"><span style="border: 0px none rgb(255\, 0\, 255)\; line-height: 19.99px\; margin: 0px\; outline-style: none\; outline-width: 0px\; padding: 0px\; vertical-align: baseline\;"><font color="#ff00ff" style="border: 0px none rgb(255\, 0\, 255)\; margin: 0px\; outline-style: none\; outline-width: 0px\; padding: 0px\; vertical-align: baseline\;"><span style="border: 0px none rgb(255\, 0\, 255)\; line-height: 19.99px\; margin: 0px\; outline-style: none\; outline-width: 0px\; padding: 0px\; vertical-align: baseline\;"><font color="#ff00ff" style="border: 0px none rgb(255\, 0\, 255)\; margin: 0px\; outline-style: none\; outline-width: 0px\; padding: 0px\; vertical-align: baseline\;"><span style="border: 0px none rgb(255\, 0\, 255)\; margin: 0px\; outline-style: none\; outline-width: 0px\; padding: 0px\; vertical-align: baseline\;"><font face="Verdana" style="border: 0px none rgb(255\, 0\, 255)\; margin: 0px\; outline-style: none\; outline-width: 0px\; padding: 0px\; vertical-align: baseline\;">BRING THE WHOLE FAMILY!</font>&nbsp\; </span></font></span></font></span></font></span></font></span></font></font></font></font></span></span></span></span></span></font></font></font></span></span></span></span></font></font></font></font></p>\n\n<p style="background-color: transparent\; border: 0px none rgb(0\, 0\, 0)\; color: rgb(0\, 0\, 0)\; font-size: 14px\; font-variant-numeric: normal\; font-variant-east-asian: normal\; margin: 0px\; outline-style: none\; outline-width: 0px\; padding: 0px\; text-align: center\; vertical-align: baseline\;"><font color="#000000" face="Times New Roman" style="border: 0px none rgb(0\, 0\, 0)\; font-family: &quot\;Times New Roman&quot\;\; margin: 0px\; outline-style: none\; outline-width: 0px\; padding: 0px\; vertical-align: baseline\;"><span style="border: 0px none rgb(0\, 0\, 0)\; font-weight: 700\; margin: 0px\; outline-style: none\; outline-width: 0px\; padding: 0px\; vertical-align: baseline\;"><font face="Verdana" style="border: 0px none rgb(0\, 0\, 0)\; font-family: Verdana\; margin: 0px\; outline-style: none\; outline-width: 0px\; padding: 0px\; vertical-align: baseline\;"><font face="Verdana" style="border: 0px none rgb(0\, 0\, 0)\; margin: 0px\; outline-style: none\; outline-width: 0px\; padding: 0px\; vertical-align: baseline\;"><font face="Verdana" style="border: 0px none rgb(0\, 0\, 0)\; margin: 0px\; outline-style: none\; outline-width: 0px\; padding: 0px\; vertical-align: baseline\;"><span style="border: 0px none rgb(0\, 0\, 0)\; line-height: 19.99px\; margin: 0px\; outline-style: none\; outline-width: 0px\; padding: 0px\; vertical-align: baseline\;"><font color="#ff00ff" style="border: 0px none rgb(255\, 0\, 255)\; margin: 0px\; outline-style: none\; outline-width: 0px\; padding: 0px\; vertical-align: baseline\;"><span style="border: 0px none rgb(255\, 0\, 255)\; margin: 0px\; outline-style: none\; outline-width: 0px\; padding: 0px\; vertical-align: baseline\;">FREE BABYSITTING (ages 3-8)&nbsp\;&amp\; &nbsp\;BOUNCY HOUSE</span></font></span></font></font></font></span></font></p>\n\n<p style="border: 0px none rgb(0\, 0\, 0)\; margin: 0px\; outline-style: none\; outline-width: 0px\; padding: 0px\; text-align: center\; vertical-align: baseline\;"><font color="#000000" face="Times New Roman" style="background-color: transparent\; border: 0px none rgb(0\, 0\, 0)\; color: rgb(0\, 0\, 0)\; font-family: &quot\;Times New Roman&quot\;\; font-size: 14px\; font-variant-numeric: normal\; font-variant-east-asian: normal\; margin: 0px\; outline-style: none\; outline-width: 0px\; padding: 0px\; vertical-align: baseline\;"><span style="border: 0px none rgb(0\, 0\, 0)\; font-weight: 700\; margin: 0px\; outline-style: none\; outline-width: 0px\; padding: 0px\; vertical-align: baseline\;"><font face="Verdana" style="border: 0px none rgb(0\, 0\, 0)\; font-family: Verdana\; margin: 0px\; outline-style: none\; outline-width: 0px\; padding: 0px\; vertical-align: baseline\;"><font face="Verdana" style="border: 0px none rgb(0\, 0\, 0)\; margin: 0px\; outline-style: none\; outline-width: 0px\; padding: 0px\; vertical-align: baseline\;"><font face="Verdana" style="border: 0px none rgb(0\, 0\, 0)\; margin: 0px\; outline-style: none\; outline-width: 0px\; padding: 0px\; vertical-align: baseline\;"><span style="border: 0px none rgb(0\, 0\, 0)\; line-height: 19.99px\; margin: 0px\; outline-style: none\; outline-width: 0px\; padding: 0px\; vertical-align: baseline\;"><font face="Verdana" style="border: 0px none rgb(0\, 0\, 0)\; margin: 0px\; outline-style: none\; outline-width: 0px\; padding: 0px\; vertical-align: baseline\;"><span style="border: 0px none rgb(0\, 0\, 0)\; line-height: 19.99px\; margin: 0px\; outline-style: none\; outline-width: 0px\; padding: 0px\; vertical-align: baseline\;"><font color="#ff00ff" style="border: 0px none rgb(255\, 0\, 255)\; margin: 0px\; outline-style: none\; outline-width: 0px\; padding: 0px\; vertical-align: baseline\;"><span style="border: 0px none rgb(255\, 0\, 255)\; margin: 0px\; outline-style: none\; outline-width: 0px\; padding: 0px\; vertical-align: baseline\;">RACE AWARDS!&nbsp\; LIVE MUSIC!&nbsp\;&nbsp\;FOOD by JOE&#39\;S AMERICAN!</span></font></span><span style="border: 0px none rgb(0\, 0\, 0)\; line-height: 19.99px\; margin: 0px\; outline-style: none\; outline-width: 0px\; padding: 0px\; vertical-align: baseline\;">&nbsp\;</span></font></span></font></font></font></span></font></p>\n\n<p style="background-color: transparent\; border: 0px none rgb(0\, 0\, 0)\; color: rgb(0\, 0\, 0)\; font-size: 14px\; font-variant-numeric: normal\; font-variant-east-asian: normal\; margin: 0px\; outline-style: none\; outline-width: 0px\; padding: 0px\; vertical-align: baseline\;">&nbsp\;</p>\n\n<p style="background-color: transparent\; border: 0px none rgb(0\, 0\, 0)\; color: rgb(0\, 0\, 0)\; font-size: 14px\; font-variant-numeric: normal\; font-variant-east-asian: normal\; margin: 0px\; outline-style: none\; outline-width: 0px\; padding: 0px\; vertical-align: baseline\;">&nbsp\;</p>\n\n<p style="background-color: transparent\; border: 0px none rgb(0\, 0\, 0)\; color: rgb(0\, 0\, 0)\; font-size: 14px\; font-variant-numeric: normal\; font-variant-east-asian: normal\; margin: 0px\; outline-style: none\; outline-width: 0px\; padding: 0px\; text-align: center\; vertical-align: baseline\;">&nbsp\;</p>\n
LOCATION:Burbank YMCA - 36 Arthur B Lord Dr. Reading\, MA 01867
UID:e.2938.5208
SEQUENCE:3
DTSTAMP:20260425T154543Z
URL:https://business.wilmingtontewksburychamber.org/events/details/4th-annual-laurel-kluge-5k-ribbon-run-walk-5208
END:VEVENT

END:VCALENDAR
