BEGIN:VCALENDAR
VERSION:2.0
PRODID:-//ChamberMaster//Event Calendar 2.0//EN
METHOD:PUBLISH
X-PUBLISHED-TTL:P3D
REFRESH-INTERVAL:P3D
CALSCALE:GREGORIAN
BEGIN:VEVENT
DTSTART:20180917T230000Z
DTEND:20180918T000000Z
X-MICROSOFT-CDO-ALLDAYEVENT:FALSE
SUMMARY:3rd Annual Candlelight Vigil
DESCRIPTION:Wilmington Substance Abuse Coalition's 3rd Annual Candlelight Vigil September 17\, 2018 @ 7:00PM\, Wilmington Town Common \n\n  \n\nJoin us as we remember those who we have lost to the disease of  addiction and come together to reduce the stigma
X-ALT-DESC;FMTTYPE=text/html:Wilmington Substance Abuse Coalition&rsquo\;s 3rd Annual Candlelight Vigil September 17\, 2018 @ 7:00PM\, Wilmington Town Common&nbsp\;<br />\n&nbsp\;&nbsp\;<br />\nJoin us as we remember those who we have lost to the disease of&nbsp\; addiction and come together to reduce the stigma&nbsp\;<br />\n&nbsp\;
LOCATION:Wilmington Town Common
UID:e.2938.5217
SEQUENCE:3
DTSTAMP:20260425T174244Z
URL:https://business.wilmingtontewksburychamber.org/events/details/3rd-annual-candlelight-vigil-5217
END:VEVENT

END:VCALENDAR
