BEGIN:VCALENDAR
VERSION:2.0
PRODID:-//ChamberMaster//Event Calendar 2.0//EN
METHOD:PUBLISH
X-PUBLISHED-TTL:P3D
REFRESH-INTERVAL:P3D
CALSCALE:GREGORIAN
BEGIN:VEVENT
DTSTART;VALUE=DATE:20190520
DTEND;VALUE=DATE:20190521
TRANSP:TRANSPARENT
X-MICROSOFT-CDO-ALLDAYEVENT:TRUE
SUMMARY:29th Annual Wilmington School/Business Partnership's Golf Tournament
DESCRIPTION:GOLF PACKAGE INCLUDES:\n\nContinental Breakfast  \n\nGreens Fees/Golf Cart/Gift Bags\n\nContests on the Course\n\n50/50 Raffle\n\nGift Raffle\n\nPrizes for 1st\, 2nd\, 3rd Place Team\n\nBuffet Luncheon  \n\n\n\nTo Benefit School\, Business & Community Programs\n\nMonday\, May 20\, 2019\n\nHillview Country Club\, North Reading\n\nRegistration and Continental Breakfast 7:15 - 8:00 am\n\nShotgun Start 8:05 am\n\nBuffet Luncheon and Social Hour 12:30 pm\n\nYour participation will benefit Wilmington School/Business Partnership Programs such as:\n\nInnovative Teacher Awards\, School to Career Programs\, Career Fair\, DECA\, Academic  Scholarships\n\n\n\nFor more information please contact \n\nCharlie Southmayd (978) 604-5124 Ed Harrison (978) 694-6065 Marlene Moran (781) 937-1283
X-ALT-DESC;FMTTYPE=text/html:<span style="language:en-US\;"><span style="color:black\;"><span style="font-family:times new roman\;"><span style="font-size:14.0pt\;">GOLF PACKAGE INCLUDES:</span></span></span></span><br />\n<span style="language:en-US\;"><span style="color:black\;"><span style="font-family:times new roman\;"><span style="font-size:14.0pt\;">Continental Breakfast&nbsp\; </span></span></span></span><br />\n<span style="language:en-US\;"><span style="color:black\;"><span style="font-family:times new roman\;"><span style="font-size:14.0pt\;">Greens Fees/Golf Cart/Gift Bags</span></span></span></span><br />\n<span style="language:en-US\;"><span style="color:black\;"><span style="font-family:times new roman\;"><span style="font-size:14.0pt\;">Contests on the Course</span></span></span></span><br />\n<span style="language:en-US\;"><span style="color:black\;"><span style="font-family:times new roman\;"><span style="font-size:14.0pt\;">50/50 Raffle</span></span></span></span><br />\n<span style="language:en-US\;"><span style="color:black\;"><span style="font-family:times new roman\;"><span style="font-size:14.0pt\;">Gift Raffle</span></span></span></span><br />\n<span style="language:en-US\;"><span style="color:black\;"><span style="font-family:times new roman\;"><span style="font-size:14.0pt\;">Prizes for 1st\, 2nd\, 3rd Place Team</span></span></span></span><br />\n<span style="language:en-US\;"><span style="color:black\;"><span style="font-family:times new roman\;"><span style="font-size:14.0pt\;">Buffet Luncheon&nbsp\;&nbsp\;</span></span></span></span><br />\n<br />\n<span style="language:en-US\;"><span style="color:black\;"><span style="font-family:times new roman\;"><span style="font-size:18.0pt\;">To Benefit School\, Business &amp\; Community Programs</span></span></span></span><br />\n<span style="language:en-US\;font-weight:bold\;"><span style="color:black\;"><span style="font-family:times new roman\;"><span style="font-size:22.0pt\;">Monday\, May 20\, 2019</span></span></span></span><br />\n<span style="language:en-US\;"><span style="color:black\;"><span style="font-family:times new roman\;"><span style="font-size:22.0pt\;">Hillview Country Club\, North Reading</span></span></span></span><br />\n<span style="language:en-US\;"><span style="color:black\;"><span style="font-family:arial\;"><span style="font-size:19.0pt\;">Registration and Continental Breakfast 7:15 - 8:00 am</span></span></span></span><br />\n<span style="language:en-US\;"><span style="color:black\;"><span style="font-family:arial\;"><span style="font-size:19.0pt\;">Shotgun Start 8:05 am</span></span></span></span><br />\n<span style="language:en-US\;"><span style="color:black\;"><span style="font-family:arial\;"><span style="font-size:19.0pt\;">Buffet Luncheon and Social Hour 12:30 pm</span></span></span></span><br />\n<span style="language:en-US\;"><span style="color:black\;"><span style="font-family:arial\;"><span style="font-size:12.0pt\;">Your participation will benefit Wilmington School/Business Partnership Programs such as:</span></span></span></span><br />\n<span style="language:en-US\;"><span style="color:black\;"><span style="font-family:arial\;"><span style="font-size:12.0pt\;">Innovative Teacher Awards\, School to Career Programs\, Career Fair\, DECA\, Academic&nbsp\; Scholarships</span></span></span></span><br />\n<br />\n<span style="language:en-US\;"><span style="color:black\;"><span style="font-family:arial\;"><span style="font-size:12.0pt\;">For more information please contact</span></span></span></span><span style="language:en-US\;"><span style="color:black\;"><span style="font-family:arial\;"><span style="font-size:12.0pt\;">&hellip\;</span></span></span></span><br />\n<span style="language:en-US\;"><span style="color:black\;"><span style="font-family:arial\;"><span style="font-size:12.0pt\;">Charlie Southmayd (978) 604-5124 Ed Harrison (978) 694-6065 Marlene Moran (781) 937-1283</span></span></span></span><br />\n&nbsp\;
LOCATION:Hillview Country Club\, North Reading DIRECTIONS TO HILLVIEW: Rt 93 to Exit 40 (Rt 62 East) 1 1/2 miles\, take left onto North St. Go through set of lights (over Rt 28) Hillview 1/2 mile on left
UID:e.2938.5293
SEQUENCE:3
DTSTAMP:20260425T030321Z
URL:https://business.wilmingtontewksburychamber.org/events/details/29th-annual-wilmington-school-business-partnership-s-golf-tournament-5293
END:VEVENT

END:VCALENDAR
