BEGIN:VCALENDAR
VERSION:2.0
PRODID:-//ChamberMaster//Event Calendar 2.0//EN
METHOD:PUBLISH
X-PUBLISHED-TTL:P3D
REFRESH-INTERVAL:P3D
CALSCALE:GREGORIAN
BEGIN:VEVENT
DTSTART:20200928T110000Z
DTEND:20200928T190000Z
X-MICROSOFT-CDO-ALLDAYEVENT:FALSE
SUMMARY:2020 Chamber Golf Classic
DESCRIPTION:We are excited to announce that we have rescheduled our Golf Tournament for MONDAY\, SEPTEMBER 28th! \n\n\n\nPlease join us for a great day of networking and OUTSIDE fun with local businesses and friends on the links at The Tewksbury Country Club for our 2020 Wilmington/Tewksbury Chamber Golf Classic! This will be a shotgun style\, best-ball scramble tournament.\n\n\n\nCheck-in starts at 7:00 am with a continental breakfast. Golf starts at 8:00 am with a shot-gun start.  Lots of opportunities to win great prizes in on-course contests and raffle drawings and end the day tailgating with a boxed lunch.\n\n\n\nPlease note that we are working closely with Tewksbury Country Club to provide a great golfing experience for all\, while obeying the State's reopening guidelines\n\n\n\nClick the Registration Link Above to Register now or to Sponsor this Event!
X-ALT-DESC;FMTTYPE=text/html:<span style="font-size:14px\;"><span style="font-family:arial\;">We are excited to announce that we have rescheduled our Golf Tournament for MONDAY\, SEPTEMBER 28th!&nbsp\;<br />\n<br />\nPlease join us for a great day of networking and OUTSIDE fun with local businesses and friends on the links at The Tewksbury Country Club&nbsp\;for our 2020 Wilmington/Tewksbury&nbsp\;Chamber Golf Classic! This will be a shotgun style\, best-ball scramble tournament.<br />\n<br />\nCheck-in starts at 7:00 am with a continental breakfast.&nbsp\;Golf starts at 8:00 am with a shot-gun start.&nbsp\; Lots of opportunities to win great prizes in on-course contests and raffle drawings and end the day tailgating with a boxed lunch.<br />\n<br />\nPlease note that we are working closely with Tewksbury Country Club to provide a great golfing experience for all\, while obeying the State&#39\;s reopening guidelines<br />\n<br />\nClick the Registration Link Above to Register now or to Sponsor this Event!</span></span>
LOCATION:Tewksbury Country Club 1880 Main Street Tewksbury\, MA
UID:e.2938.6633
SEQUENCE:3
DTSTAMP:20260423T184558Z
URL:https://business.wilmingtontewksburychamber.org/events/details/2020-chamber-golf-classic-6633
END:VEVENT

END:VCALENDAR
