BEGIN:VCALENDAR
VERSION:2.0
PRODID:-//ChamberMaster//Event Calendar 2.0//EN
METHOD:PUBLISH
X-PUBLISHED-TTL:P3D
REFRESH-INTERVAL:P3D
CALSCALE:GREGORIAN
BEGIN:VEVENT
DTSTART:20190508T213000Z
DTEND:20190508T233000Z
X-MICROSOFT-CDO-ALLDAYEVENT:FALSE
SUMMARY:2019 Small Business Month Celebration
DESCRIPTION:Wilmington/Tewksbury Chamber - Rotary Club - BNI Members & State/Town Officials:\n\n\n\nPlease join us at an After Hours Mixer that celebrates YOU and the other men and women that contribute to the Wilmington & Tewksbury business community. \n\n\n\nWednesday\, May 8\n\n5:30 pm - 7:30 pm\n\nRocco's Restaurant\n\n193 Main Street\, Wilmington\n\n \n\nSince 1963\, the United States has recognized small businesses and their impact on American culture and our economy. The month of May aims to honor the close to 30 million small businesses and the amazing people who run them. \n\nLet's celebrate together with a fun evening of food\, drinks\, and conversation.\n\n~ Complimentary Food and Cash Bar ~\n\n \n\nFree to attend\, kindly RSVP for food count.
X-ALT-DESC;FMTTYPE=text/html:<div><br />\nWilmington/Tewksbury Chamber - Rotary Club - BNI Members &amp\; State/Town Officials:<br />\n<br />\nPlease join us at an After Hours Mixer&nbsp\;that celebrates YOU and the other men and women that contribute to the Wilmington &amp\; Tewksbury&nbsp\;business community.&nbsp\;</div>\n\n<div><br />\nWednesday\, May 8<br />\n5:30 pm - 7:30 pm<br />\nRocco&#39\;s Restaurant<br />\n193 Main Street\, Wilmington</div>\n\n<div style="text-align: center\;">&nbsp\;</div>\n\n<p>Since 1963\, the United States has recognized small businesses and their impact on American culture and our economy. The month of May aims to honor the close to 30 million small businesses and the amazing people who run them.&nbsp\;</p>\n\n<p>Let&#39\;s celebrate together&nbsp\;with a fun evening of food\, drinks\, and conversation.</p>\n\n<div>~ Complimentary Food&nbsp\;and Cash Bar ~</div>\n\n<div style="text-align: center\;">&nbsp\;</div>\n\n<div>Free to attend\, kindly RSVP for food count.</div>\n
LOCATION:Rocco's Restaurant 193 Main Street\, Wilmington
UID:e.2938.5281
SEQUENCE:3
DTSTAMP:20260421T033459Z
URL:https://business.wilmingtontewksburychamber.org/events/details/2019-small-business-month-celebration-5281
END:VEVENT

END:VCALENDAR
