BEGIN:VCALENDAR
VERSION:2.0
PRODID:-//ChamberMaster//Event Calendar 2.0//EN
METHOD:PUBLISH
X-PUBLISHED-TTL:P3D
REFRESH-INTERVAL:P3D
CALSCALE:GREGORIAN
BEGIN:VEVENT
DTSTART:20191116T150000Z
DTEND:20191116T190000Z
X-MICROSOFT-CDO-ALLDAYEVENT:FALSE
SUMMARY:2019 Pet Photo Contest
DESCRIPTION:A charitable Event to benefit the Northeast Animal Shelter. \n\nThree members of the Wilmington/Tewksbury Chamber of Commerce have teamed up to host a Fun Pet Event on Saturday November 16th in Wilmington from 10-2pm. \n\nSponsors are Jessica Kretzenger Photography\, Team Blue of ERA Key Realty and Damore Law.  \n\n\n\nThe pet photo studio will be set up for your pet to come and get a Professional  photo done by Jessica Kretzenger.  There will be costumes on site for you to use\, or bring your own.  We have a Patriots Jersey\, Bruins Jersey\, Teddy Bear\, Santa Claus\, Elf\, Snowman.   All photo's will be entered into the Pet Photo Contest.   There is a sign up form for you to give the approximate time you would like to have the photo taken\, this will help us be prepared. \nThere are 3 Catergories for the 1st place Prize of $100 GC to Amazon \n\nThere are other prizes and raffles to be won at the event.  \n\nFree Dog walks\n\nFree Pet Grooming\n\nFree training\n\nTreats etc..\nGreat Event for a great cause.\n\nCaring is Giving.
X-ALT-DESC;FMTTYPE=text/html:A charitable Event to benefit the Northeast Animal Shelter.&nbsp\;<br />\nThree members of the Wilmington/Tewksbury Chamber of Commerce have teamed up to host a Fun Pet Event on Saturday November 16th in Wilmington from 10-2pm.&nbsp\;<br />\nSponsors are Jessica Kretzenger Photography\, Team Blue of ERA Key Realty and Damore Law.&nbsp\;&nbsp\;<br />\n<br />\nThe pet photo studio will be set up for your pet to come and get a Professional&nbsp\; photo done by Jessica Kretzenger.&nbsp\; There will be costumes on site for you to use\, or bring your own.&nbsp\; We have a Patriots Jersey\, Bruins Jersey\, Teddy Bear\, Santa Claus\, Elf\, Snowman.&nbsp\; &nbsp\;All photo&#39\;s will be entered into the Pet Photo Contest.&nbsp\; &nbsp\;There is a sign up form for you to give the approximate time you would like to have the photo taken\, this will help us be prepared.&nbsp\;\n<div style="text-align:center">There are 3 Catergories for the 1st place Prize of $100 GC to Amazon&nbsp\;<br />\nThere are other prizes and raffles to be won at the event.&nbsp\;&nbsp\;</div>\n\n<div style="text-align:center">Free Dog walks<br />\nFree Pet Grooming<br />\nFree training<br />\nTreats etc..</div>\nGreat Event for a great cause.<br />\nCaring is Giving.
LOCATION:
UID:e.2938.6546
SEQUENCE:3
DTSTAMP:20260424T060808Z
URL:https://business.wilmingtontewksburychamber.org/events/details/2019-pet-photo-contest-11-16-2019-6546
END:VEVENT

END:VCALENDAR
