BEGIN:VCALENDAR
VERSION:2.0
PRODID:-//ChamberMaster//Event Calendar 2.0//EN
METHOD:PUBLISH
X-PUBLISHED-TTL:P3D
REFRESH-INTERVAL:P3D
CALSCALE:GREGORIAN
BEGIN:VEVENT
DTSTART:20180930T160000Z
DTEND:20180930T210000Z
X-MICROSOFT-CDO-ALLDAYEVENT:FALSE
SUMMARY:2018 Fall Harvest Festival
DESCRIPTION:Vendors\, Food\, Rides\, Games & Fun
X-ALT-DESC;FMTTYPE=text/html:Vendors\, Food\, Rides\, Games &amp\; Fun&nbsp\;&nbsp\;&nbsp\;&nbsp\;
LOCATION:Livingstone Field Tewksbury
UID:e.2938.5215
SEQUENCE:3
DTSTAMP:20260425T191248Z
URL:https://business.wilmingtontewksburychamber.org/events/details/2018-fall-harvest-festival-5215
END:VEVENT

END:VCALENDAR
