BEGIN:VCALENDAR
VERSION:2.0
PRODID:-//ChamberMaster//Event Calendar 2.0//EN
METHOD:PUBLISH
X-PUBLISHED-TTL:P3D
REFRESH-INTERVAL:P3D
CALSCALE:GREGORIAN
BEGIN:VEVENT
DTSTART;VALUE=DATE:20180430
DTEND;VALUE=DATE:20180501
TRANSP:TRANSPARENT
X-MICROSOFT-CDO-ALLDAYEVENT:TRUE
SUMMARY:2018 Chamber Golf Classic
DESCRIPTION:Join us for a great day of networking with fellow businesses and friends on the links at The Tewksbury Country Club for our 2018 Wilmington/Tewksbury Chamber Golf Classic! This will be a shotgun style\, best-ball scramble tournament.\n\n\n\nCheck-in starts at 7:00 am with a continental breakfast. Golf starts at 8:00 am with a shot-gun start.\n\nThere will be opportunities to win great prizes in on-course contests!
X-ALT-DESC;FMTTYPE=text/html:<span style="font-size:14px\;"><span style="font-family:arial\;">Join us for a great day of networking with fellow businesses and friends on the links at The Tewksbury Country Club&nbsp\;for our 2018 Wilmington/Tewksbury&nbsp\;Chamber Golf Classic! This will be a shotgun style\, best-ball scramble tournament.<br />\n<br />\nCheck-in starts at 7:00 am with a continental breakfast.&nbsp\;Golf starts at 8:00 am with a shot-gun start.<br />\nThere will be opportunities to win great prizes in on-course contests!</span></span>
LOCATION:Tewksbury Country Club 1880 Main Street Tewksbury\, MA
UID:e.2938.1150
SEQUENCE:3
DTSTAMP:20260426T023511Z
URL:https://business.wilmingtontewksburychamber.org/events/details/2018-chamber-golf-classic-1150
END:VEVENT

END:VCALENDAR
