BEGIN:VCALENDAR
VERSION:2.0
PRODID:-//ChamberMaster//Event Calendar 2.0//EN
METHOD:PUBLISH
X-PUBLISHED-TTL:P3D
REFRESH-INTERVAL:P3D
CALSCALE:GREGORIAN
BEGIN:VEVENT
DTSTART:20171005T153000Z
DTEND:20171005T180000Z
X-MICROSOFT-CDO-ALLDAYEVENT:FALSE
SUMMARY:128 Business Expo
DESCRIPTION:Reserve Your Exhibitor Table for the Region's Largest Business Expo!\n\n\nIf you're looking for a product or service along the 128 corridor\, then the 128 Business Expo is sure to have it! This Expo attracts between 400-600 attendees and over 100 Exhibitors\n\n\n\nMultiple Area Chambers Participating! Stop by and remember to bring plenty of business cards!
X-ALT-DESC;FMTTYPE=text/html:<h1 style="text-align: center\; font-style: italic\;"><strong><span style="color:#DAA520\;">Reserve Your Exhibitor Table for the Region&#39\;s Largest Business Expo!</span></strong></h1>\n<br />\n<span style="font-size:16px\;"><span style="font-family:tahoma\;">If you&#39\;re looking for a product or service along the 128 corridor\, then the 128 Business Expo is sure to have it! This Expo attracts between 400-600 attendees and over 100 Exhibitors<br />\n<br />\nMultiple Area Chambers Participating! Stop by and remember to bring plenty of business cards!</span></span><br />\n<br />\n<br />\n<br />\n&nbsp\;
LOCATION:The Westin Waltham-Boston Hotel 70 Third Avenue Waltham\, MA 02451
UID:e.2938.99
SEQUENCE:3
DTSTAMP:20260422T074240Z
URL:https://business.wilmingtontewksburychamber.org/events/details/128-business-expo-99
END:VEVENT

END:VCALENDAR
