BEGIN:VCALENDAR
VERSION:2.0
PRODID:-//ChamberMaster//Event Calendar 2.0//EN
METHOD:PUBLISH
X-PUBLISHED-TTL:P3D
REFRESH-INTERVAL:P3D
CALSCALE:GREGORIAN
BEGIN:VEVENT
DTSTART:20180302T233000Z
DTEND:20180303T040000Z
X-MICROSOFT-CDO-ALLDAYEVENT:FALSE
SUMMARY:11th Annual Chamber Comedy Night
DESCRIPTION:11th Annual Chamber Comedy Night & St. Patrick's Day Celebration.
X-ALT-DESC;FMTTYPE=text/html:11th Annual Chamber Comedy Night &amp\; St. Patrick&#39\;s Day Celebration.
LOCATION:Shriners Auditorium Fez Room 99 Fordham Road\, Wilmington
UID:e.2938.1134
SEQUENCE:3
DTSTAMP:20260426T043342Z
URL:https://business.wilmingtontewksburychamber.org/events/details/11th-annual-chamber-comedy-night-1134
END:VEVENT

END:VCALENDAR
