BEGIN:VCALENDAR
VERSION:2.0
PRODID:-//ChamberMaster//Event Calendar 2.0//EN
METHOD:PUBLISH
X-PUBLISHED-TTL:P3D
REFRESH-INTERVAL:P3D
CALSCALE:GREGORIAN
BEGIN:VEVENT
DTSTART:20170303T233000Z
DTEND:20170304T040000Z
X-MICROSOFT-CDO-ALLDAYEVENT:FALSE
SUMMARY:10th Annual Chamber Comedy Night
DESCRIPTION:10th Annual Chamber Comedy Night & St. Patrick's Day Celebration.
X-ALT-DESC;FMTTYPE=text/html:10th Annual Chamber Comedy Night &amp\; St. Patrick&#39\;s Day Celebration.
LOCATION:Shriners Auditorium Fez Room 99 Fordham Road\, Wilmington
UID:e.2938.7
SEQUENCE:3
DTSTAMP:20260423T074954Z
URL:https://business.wilmingtontewksburychamber.org/events/details/10th-annual-chamber-comedy-night-7
END:VEVENT

END:VCALENDAR
